BEGIN:VCALENDAR
VERSION:2.0
PRODID:-//ROBERT SOMMER - ECPv6.8.1//NONSGML v1.0//EN
CALSCALE:GREGORIAN
METHOD:PUBLISH
X-ORIGINAL-URL:https://www.robertsommer.at
X-WR-CALDESC:Veranstaltungen für ROBERT SOMMER
REFRESH-INTERVAL;VALUE=DURATION:PT1H
X-Robots-Tag:noindex
X-PUBLISHED-TTL:PT1H
BEGIN:VTIMEZONE
TZID:Europe/Berlin
BEGIN:DAYLIGHT
TZOFFSETFROM:+0100
TZOFFSETTO:+0200
TZNAME:CEST
DTSTART:20240331T010000
END:DAYLIGHT
BEGIN:STANDARD
TZOFFSETFROM:+0200
TZOFFSETTO:+0100
TZNAME:CET
DTSTART:20241027T010000
END:STANDARD
END:VTIMEZONE
BEGIN:VEVENT
DTSTART;TZID=Europe/Berlin:20241203T190000
DTEND;TZID=Europe/Berlin:20241203T190000
DTSTAMP:20260425T023709
CREATED:20241115T125013Z
LAST-MODIFIED:20241115T130136Z
UID:17151-1733252400-1733252400@www.robertsommer.at
SUMMARY:Verena Maria Swan
DESCRIPTION:Anregende Stunden für Ohren und Augen in den Seminarräumen der Malerin\,\ndie auch – gemeinsam mit Maler-Kollege Harry Ergott – ihre Werke präsentiert.\n\nAnmeldungen an office@verenamaria.com
URL:https://www.robertsommer.at/event/verena-maria-swan/
LOCATION:Verena Maria Swan\, Rienößlgasse 3\, Top 2\, Wien\, 1040
ATTACH;FMTTYPE=image/jpeg:https://www.robertsommer.at/wp-content/uploads/2024/11/robertsommer-2024-11-verena-maria-swan.jpg
END:VEVENT
BEGIN:VEVENT
DTSTART;TZID=Europe/Berlin:20241212T190000
DTEND;TZID=Europe/Berlin:20241212T190000
DTSTAMP:20260425T023709
CREATED:20241115T124711Z
LAST-MODIFIED:20241115T130023Z
UID:17147-1734030000-1734030000@www.robertsommer.at
SUMMARY:Café Siebenbrunnen
DESCRIPTION:Solo-Auftritt mit Best-of-Weihnachtsspecial der humorvollen Art.\nVergnügliche Auszeit garantiert!\n\nAnmeldungen an knablreport@gmail.com
URL:https://www.robertsommer.at/event/cafe-siebenbrunnen/
LOCATION:Café Siebenbrunnen\, Reinprechtsdorfer Str. 29\, Wien\, 1050
ATTACH;FMTTYPE=image/jpeg:https://www.robertsommer.at/wp-content/uploads/2024/11/robertsommer-2024-11-cafe-siebenbrunnen.jpg
END:VEVENT
END:VCALENDAR