BEGIN:VCALENDAR
VERSION:2.0
PRODID:-//ROBERT SOMMER - ECPv6.8.1//NONSGML v1.0//EN
CALSCALE:GREGORIAN
METHOD:PUBLISH
X-WR-CALNAME:ROBERT SOMMER
X-ORIGINAL-URL:https://www.robertsommer.at
X-WR-CALDESC:Veranstaltungen für ROBERT SOMMER
REFRESH-INTERVAL;VALUE=DURATION:PT1H
X-Robots-Tag:noindex
X-PUBLISHED-TTL:PT1H
BEGIN:VTIMEZONE
TZID:Europe/Berlin
BEGIN:DAYLIGHT
TZOFFSETFROM:+0100
TZOFFSETTO:+0200
TZNAME:CEST
DTSTART:20260329T010000
END:DAYLIGHT
BEGIN:STANDARD
TZOFFSETFROM:+0200
TZOFFSETTO:+0100
TZNAME:CET
DTSTART:20261025T010000
END:STANDARD
END:VTIMEZONE
BEGIN:VEVENT
DTSTART;TZID=Europe/Berlin:20260410T180000
DTEND;TZID=Europe/Berlin:20260410T180000
DTSTAMP:20260420T022455
CREATED:20260225T111533Z
LAST-MODIFIED:20260225T111915Z
UID:17176-1775844000-1775844000@www.robertsommer.at
SUMMARY:Promille-Doktor im Weinwerk
DESCRIPTION:Promille-Doktor im Weinwerk – Premiere! Erster Auftritt von Robert Sommer im allseits bekannten Weinwerk in Neusiedl am See. Der Autor liest und erzählt aus seinen Satiren und natürlich aus einem seiner Bestseller dem Promille-Doktor! Es wird ein berauschender Abend!
URL:https://www.robertsommer.at/event/promille-doktor-im-weinwerk/
LOCATION:Weinwerk\, Ober Hauptstraße 31\, Neusiedl am See\, Burgenland\, 7100
ATTACH;FMTTYPE=image/webp:https://www.robertsommer.at/wp-content/uploads/2026/02/robert-sommer-2026-02-promille-doktor.webp
END:VEVENT
END:VCALENDAR