BEGIN:VCALENDAR
VERSION:2.0
PRODID:-//ROBERT SOMMER - ECPv6.8.1//NONSGML v1.0//EN
CALSCALE:GREGORIAN
METHOD:PUBLISH
X-ORIGINAL-URL:https://www.robertsommer.at
X-WR-CALDESC:Veranstaltungen für ROBERT SOMMER
REFRESH-INTERVAL;VALUE=DURATION:PT1H
X-Robots-Tag:noindex
X-PUBLISHED-TTL:PT1H
BEGIN:VTIMEZONE
TZID:Europe/Berlin
BEGIN:DAYLIGHT
TZOFFSETFROM:+0100
TZOFFSETTO:+0200
TZNAME:CEST
DTSTART:20260329T010000
END:DAYLIGHT
BEGIN:STANDARD
TZOFFSETFROM:+0200
TZOFFSETTO:+0100
TZNAME:CET
DTSTART:20261025T010000
END:STANDARD
END:VTIMEZONE
BEGIN:VEVENT
DTSTART;TZID=Europe/Berlin:20260306T190000
DTEND;TZID=Europe/Berlin:20260306T190000
DTSTAMP:20260419T230313
CREATED:20260225T105557Z
LAST-MODIFIED:20260225T110912Z
UID:17172-1772823600-1772823600@www.robertsommer.at
SUMMARY:Sommer goes Vernissage
DESCRIPTION:Sommer goes Vernissage – er gastiert mit großer Freude und Best-of aus seinen Bestsellern bei der ersten Ausstellung des jungen Jahres in den Räumen von Verena Maria Swan. \n\n\nUnter dem Motto Verführung\, Feuer\, Spiel & Eleganz zeigen wunderbare bildende Künstler ihre Werke\, das Allroundtalent Verena Maria präsentiert dieses Mal Design-Ohrringe. \nDer Eintritt ist frei.
URL:https://www.robertsommer.at/event/sommer-goes-vernissage/
LOCATION:Seminarraum Wien\, Rienößlgasse 3\, Top 2\, Wien\, 1040\, Österreich
ATTACH;FMTTYPE=image/webp:https://www.robertsommer.at/wp-content/uploads/2026/02/robert-sommer-2026-02-sommer-goes-vernissage.webp
END:VEVENT
END:VCALENDAR